BEGIN:VCALENDAR
VERSION:2.0
PRODID:-//Curia Vitkov - ECPv6.15.20//NONSGML v1.0//EN
CALSCALE:GREGORIAN
METHOD:PUBLISH
X-WR-CALNAME:Curia Vitkov
X-ORIGINAL-URL:https://curiavitkov.cz
X-WR-CALDESC:Akce na Curia Vitkov
REFRESH-INTERVAL;VALUE=DURATION:PT1H
X-Robots-Tag:noindex
X-PUBLISHED-TTL:PT1H
BEGIN:VTIMEZONE
TZID:Europe/Prague
BEGIN:DAYLIGHT
TZOFFSETFROM:+0100
TZOFFSETTO:+0200
TZNAME:CEST
DTSTART:20250330T010000
END:DAYLIGHT
BEGIN:STANDARD
TZOFFSETFROM:+0200
TZOFFSETTO:+0100
TZNAME:CET
DTSTART:20251026T010000
END:STANDARD
BEGIN:DAYLIGHT
TZOFFSETFROM:+0100
TZOFFSETTO:+0200
TZNAME:CEST
DTSTART:20260329T010000
END:DAYLIGHT
BEGIN:STANDARD
TZOFFSETFROM:+0200
TZOFFSETTO:+0100
TZNAME:CET
DTSTART:20261025T010000
END:STANDARD
BEGIN:DAYLIGHT
TZOFFSETFROM:+0100
TZOFFSETTO:+0200
TZNAME:CEST
DTSTART:20270328T010000
END:DAYLIGHT
BEGIN:STANDARD
TZOFFSETFROM:+0200
TZOFFSETTO:+0100
TZNAME:CET
DTSTART:20271031T010000
END:STANDARD
END:VTIMEZONE
BEGIN:VEVENT
DTSTART;TZID=Europe/Prague:20260919T080000
DTEND;TZID=Europe/Prague:20260920T150000
DTSTAMP:20260422T181159
CREATED:20230707T063754Z
LAST-MODIFIED:20251109T161248Z
UID:3445-1789804800-1789916400@curiavitkov.cz
SUMMARY:Zářijová brigáda
DESCRIPTION:Přijďte si užít babí léto na Curii Vitkov!\nPodzim je u nás nejkrásnější období a zářijová brigáda je skvělou příležitostí se s námi potkat. \nBrigáda probíhá v sobotu a v neděli\, přijet a ubytovat se je možné už od pátku. Těšíme se na vás!
URL:https://curiavitkov.cz/event/zarijova-brigada/
LOCATION:Archeoskanzen Curia Vitkov\,\, Horní Vítkov\, Chrastava\, Liberecký kraj\, 463 31\, Česká republika
ORGANIZER;CN="Spolek Curia Vitkov":MAILTO:tomic@curiavitkov.cz
END:VEVENT
END:VCALENDAR