BEGIN:VCALENDAR
VERSION:2.0
PRODID:-//Curia Vitkov - ECPv6.15.20//NONSGML v1.0//EN
CALSCALE:GREGORIAN
METHOD:PUBLISH
X-ORIGINAL-URL:https://curiavitkov.cz
X-WR-CALDESC:Akce na Curia Vitkov
REFRESH-INTERVAL;VALUE=DURATION:PT1H
X-Robots-Tag:noindex
X-PUBLISHED-TTL:PT1H
BEGIN:VTIMEZONE
TZID:Europe/Prague
BEGIN:DAYLIGHT
TZOFFSETFROM:+0100
TZOFFSETTO:+0200
TZNAME:CEST
DTSTART:20240331T010000
END:DAYLIGHT
BEGIN:STANDARD
TZOFFSETFROM:+0200
TZOFFSETTO:+0100
TZNAME:CET
DTSTART:20241027T010000
END:STANDARD
BEGIN:DAYLIGHT
TZOFFSETFROM:+0100
TZOFFSETTO:+0200
TZNAME:CEST
DTSTART:20250330T010000
END:DAYLIGHT
BEGIN:STANDARD
TZOFFSETFROM:+0200
TZOFFSETTO:+0100
TZNAME:CET
DTSTART:20251026T010000
END:STANDARD
BEGIN:DAYLIGHT
TZOFFSETFROM:+0100
TZOFFSETTO:+0200
TZNAME:CEST
DTSTART:20260329T010000
END:DAYLIGHT
BEGIN:STANDARD
TZOFFSETFROM:+0200
TZOFFSETTO:+0100
TZNAME:CET
DTSTART:20261025T010000
END:STANDARD
END:VTIMEZONE
BEGIN:VEVENT
DTSTART;TZID=Europe/Prague:20250510T110000
DTEND;TZID=Europe/Prague:20250510T160000
DTSTAMP:20260423T004008
CREATED:20250508T120637Z
LAST-MODIFIED:20250721T151658Z
UID:4167-1746874800-1746892800@curiavitkov.cz
SUMMARY:Za tesařským řemeslem do Libereckého kraje
DESCRIPTION:Zveme vás na další sobotní akci v rámci našeho programu věnovaného tradičním stavebním řemeslům! Přijďte se podívat\, jak v minulosti vznikaly domy\, a zažijte atmosféru středověké stavby v autentickém prostředí archeoskanzenu Curia Vitkov. \nCo vás čeká?\n– Ukázky tesařských technik v podání zkušených řemeslníků\n– Možnost vyzkoušet si základní dovednosti – ruční opracování dřeva\, tradiční spojování trámů aj.\n– Komentované prohlídky skanzenu zaměřené na historické stavební postupy\n– Zábavné aktivity pro děti – poznávání druhů dřeva\, nástrojů a tesařských technik \nPřijďte si užít den plný historie\, řemesla a zábavy! Tento program je ideální pro rodiny\, nadšence do historie i všechny\, kdo si chtějí vyzkoušet práci se dřevem vlastníma rukama a také nám třeba pomoci stavět. \nVstupné? Dobrovolné \nTěšíme se na vás!
URL:https://curiavitkov.cz/event/za-tesarskym-remeslem-do-libereckeho-kraje-2/
LOCATION:Archeoskanzen Curia Vitkov\,\, Horní Vítkov\, Chrastava\, Liberecký kraj\, 463 31\, Česká republika
ORGANIZER;CN="Spolek Curia Vitkov":MAILTO:tomic@curiavitkov.cz
END:VEVENT
END:VCALENDAR