BEGIN:VCALENDAR
VERSION:2.0
PRODID:-//Curia Vitkov - ECPv6.15.20//NONSGML v1.0//EN
CALSCALE:GREGORIAN
METHOD:PUBLISH
X-ORIGINAL-URL:https://curiavitkov.cz
X-WR-CALDESC:Akce na Curia Vitkov
REFRESH-INTERVAL;VALUE=DURATION:PT1H
X-Robots-Tag:noindex
X-PUBLISHED-TTL:PT1H
BEGIN:VTIMEZONE
TZID:Europe/Prague
BEGIN:DAYLIGHT
TZOFFSETFROM:+0100
TZOFFSETTO:+0200
TZNAME:CEST
DTSTART:20250330T010000
END:DAYLIGHT
BEGIN:STANDARD
TZOFFSETFROM:+0200
TZOFFSETTO:+0100
TZNAME:CET
DTSTART:20251026T010000
END:STANDARD
BEGIN:DAYLIGHT
TZOFFSETFROM:+0100
TZOFFSETTO:+0200
TZNAME:CEST
DTSTART:20260329T010000
END:DAYLIGHT
BEGIN:STANDARD
TZOFFSETFROM:+0200
TZOFFSETTO:+0100
TZNAME:CET
DTSTART:20261025T010000
END:STANDARD
BEGIN:DAYLIGHT
TZOFFSETFROM:+0100
TZOFFSETTO:+0200
TZNAME:CEST
DTSTART:20270328T010000
END:DAYLIGHT
BEGIN:STANDARD
TZOFFSETFROM:+0200
TZOFFSETTO:+0100
TZNAME:CET
DTSTART:20271031T010000
END:STANDARD
END:VTIMEZONE
BEGIN:VEVENT
DTSTART;TZID=Europe/Prague:20260321T080000
DTEND;TZID=Europe/Prague:20260322T150000
DTSTAMP:20260423T001615
CREATED:20221119T162018Z
LAST-MODIFIED:20251109T160454Z
UID:2079-1774080000-1774191600@curiavitkov.cz
SUMMARY:První jarní brigáda
DESCRIPTION:Zima končí\, začíná jaro – a s ním i práce u nás na dvorci.\nO tomto víkendu u nás rádi přivítáme každého – ty\, kteří k nám jezdí pravidelně\, ale ty\, kteří u nás ještě nikdy nebyli a chtěli by se podívat na náš dvorec i jinak než jako turisté. Pokud nám chcete pomoci\, uvítáme vaši pomocnou ruku – a nejlépe obě! \nBrigáda probíhá v sobotu a v neděli\, přijet a ubytovat se je možné už od pátku. Těšíme se na vás!
URL:https://curiavitkov.cz/event/brigada-3/
LOCATION:Archeoskanzen Curia Vitkov\,\, Horní Vítkov\, Chrastava\, Liberecký kraj\, 463 31\, Česká republika
ORGANIZER;CN="Spolek Curia Vitkov":MAILTO:tomic@curiavitkov.cz
END:VEVENT
BEGIN:VEVENT
DTSTART;TZID=Europe/Prague:20260321T100000
DTEND;TZID=Europe/Prague:20260321T160000
DTSTAMP:20260423T001615
CREATED:20260318T071843Z
LAST-MODIFIED:20260318T072113Z
UID:4519-1774087200-1774108800@curiavitkov.cz
SUMMARY:Za tesařstvím a lnářstvím na Curia Vitkov! I.
DESCRIPTION:Chcete poznat tradiční tesařské postupy\, historické sekery a vyzkoušet si opracování dřeva? Zajímá vás\, jak se v minulosti pěstoval a zpracovával len? Pak se na vás těšíme i v letošním roce v našem archeoskanzenu! Návštěvníky všech věkových skupin čekají opět \nINTERAKTIVNÍ SOBOTY  \n21.března; 18. dubna; 9. května; 19. září; 17. října \n2026! \nHlavní program sobot nabízí Stavební a tesařské techniky\, kdy si návštěvníci spod odborným dohledem prakticky vyzkouší tři klíčové fáze stavby: \n  \n\ntesařské konstrukce: tradiční opracování trámů\nrealizace stěn: pletení roštů z proutí a nanášení hliněných omítek (mazanice)\nšindelová střecha: od ručního štípání šindelů po pokládku\n\n  \nJako novinku jsme v letošním roce zařadili téma Tradiční lnářství: zpracování lnu a spolupráci s vědou. Ve spolupráci s Historickým ústavem Akademie věd ČR budou dvě z pěti sobotních termínů – 9. května a 17. října – vedle tesařsko-stavebních ukázek věnovány lnu přadnému: \n  \n\nvýklad a praktické ukázky experimentálního pěstování přadné rostliny v archeoskanzenu\nzpracování textilního vlákna v textilní dílně\nprohlídka textilní dílny\n\nAkce se koná s podporou Libereckého kraje a programu Strategie AV21 Epicentra civilizace\, Historický ústav Akademie věd
URL:https://curiavitkov.cz/event/za-tesarstvim-a-lnarstvim-na-curia-vitkov-i/
LOCATION:Archeoskanzen Curia Vitkov\,\, Horní Vítkov\, Chrastava\, Liberecký kraj\, 463 31\, Česká republika
ATTACH;FMTTYPE=image/jpeg:https://curiavitkov.cz/wp-content/uploads/2026/03/curia-letak-2.jpg
ORGANIZER;CN="Spolek Curia Vitkov":MAILTO:tomic@curiavitkov.cz
END:VEVENT
BEGIN:VEVENT
DTSTART;TZID=Europe/Prague:20260418T080000
DTEND;TZID=Europe/Prague:20260418T170000
DTSTAMP:20260423T001615
CREATED:20260413T161113Z
LAST-MODIFIED:20260413T161113Z
UID:4669-1776499200-1776531600@curiavitkov.cz
SUMMARY:Za tesařstvím a lnářstvím na Curia Vitkov! II.
DESCRIPTION:Chcete poznat tradiční tesařské postupy\, historické sekery a vyzkoušet si opracování dřeva? Zajímá vás\, jak se v minulosti pěstoval a zpracovával len? Pak se na vás těšíme i v letošním roce v našem archeoskanzenu! Návštěvníky všech věkových skupin čekají opět \nINTERAKTIVNÍ SOBOTY  \n21.března; 18. dubna; 9. května; 19. září; 17. října \n2026! \nHlavní program sobot nabízí Stavební a tesařské techniky\, kdy si návštěvníci spod odborným dohledem prakticky vyzkouší tři klíčové fáze stavby: \n  \n\ntesařské konstrukce: tradiční opracování trámů\nrealizace stěn: pletení roštů z proutí a nanášení hliněných omítek (mazanice)\nšindelová střecha: od ručního štípání šindelů po pokládku\n\n  \nJako novinku jsme v letošním roce zařadili téma Tradiční lnářství: zpracování lnu a spolupráci s vědou. Ve spolupráci s Historickým ústavem Akademie věd ČR budou dvě z pěti sobotních termínů – 9. května a 17. října – vedle tesařsko-stavebních ukázek věnovány lnu přadnému: \n  \n\nvýklad a praktické ukázky experimentálního pěstování přadné rostliny v archeoskanzenu\nzpracování textilního vlákna v textilní dílně\nprohlídka textilní dílny\n\nAkce se koná s podporou Libereckého kraje a programu Strategie AV21 Epicentra civilizace\, Historický ústav Akademie věd
URL:https://curiavitkov.cz/event/za-tesarstvim-a-lnarstvim-na-curia-vitkov-ii/
LOCATION:Archeoskanzen Curia Vitkov\,\, Horní Vítkov\, Chrastava\, Liberecký kraj\, 463 31\, Česká republika
ATTACH;FMTTYPE=image/jpeg:https://curiavitkov.cz/wp-content/uploads/2026/03/curia-letak-2.jpg
ORGANIZER;CN="Spolek Curia Vitkov":MAILTO:tomic@curiavitkov.cz
END:VEVENT
BEGIN:VEVENT
DTSTART;TZID=Europe/Prague:20260418T080000
DTEND;TZID=Europe/Prague:20260419T150000
DTSTAMP:20260423T001615
CREATED:20221119T162856Z
LAST-MODIFIED:20251109T160538Z
UID:2081-1776499200-1776610800@curiavitkov.cz
SUMMARY:Dubnová brigáda
DESCRIPTION:Přijeďte se pobavit a přiložit ruku k dílu!\nStará pranostika praví\, že „duben hojný vodou\, říjen pivem“. Přijeďte se přesvědčit\, že u nás může být říjen i v dubnu! 😀 Rádi u nás přivítáme každého\, kdo má chuť prožít zábavný víkend a odjíždět navíc s pocitem dobře vykonané práce. \nBrigáda probíhá v sobotu a v neděli\, přijet a ubytovat se je možné už od pátku. Těšíme se na vás!
URL:https://curiavitkov.cz/event/brigada/
LOCATION:Archeoskanzen Curia Vitkov\,\, Horní Vítkov\, Chrastava\, Liberecký kraj\, 463 31\, Česká republika
ORGANIZER;CN="Spolek Curia Vitkov":MAILTO:tomic@curiavitkov.cz
END:VEVENT
BEGIN:VEVENT
DTSTART;TZID=Europe/Prague:20260424T130000
DTEND;TZID=Europe/Prague:20260425T170000
DTSTAMP:20260423T001615
CREATED:20250104T103137Z
LAST-MODIFIED:20260123T123322Z
UID:3788-1777035600-1777136400@curiavitkov.cz
SUMMARY:II. Mezioborové kolokvium & workshop "Historická obydlí v krajině"
DESCRIPTION:Srdečně zveme na II. mezioborové kolokvium a edukativní workshop „Historická obydlí v krajině: technologie\, výstavba\, diagnostika a údržba“\, který se uskuteční ve dnech 24.–25. dubna 2026 v archeoskanzenu Curia Vitkov. \n\n\n\nAkci pořádá Historický ústav AV ČR ve spolupráci s Ústavem teoretické a aplikované mechaniky AV ČR a archeoskanzenem Curia Vitkov. \n\n\n\nPro přihlášení se na kolokvium použijte přihlašovací formulář \n\n\n\nProgram ke stažení
URL:https://curiavitkov.cz/event/mezioborove-kolokvium-workshop-stredoveka-obydli-v-krajine/
LOCATION:Archeoskanzen Curia Vitkov\,\, Horní Vítkov\, Chrastava\, Liberecký kraj\, 463 31\, Česká republika
ORGANIZER;CN="Spolek Curia Vitkov":MAILTO:tomic@curiavitkov.cz
END:VEVENT
BEGIN:VEVENT
DTSTART;TZID=Europe/Prague:20260508T080000
DTEND;TZID=Europe/Prague:20260510T150000
DTSTAMP:20260423T001615
CREATED:20221119T163006Z
LAST-MODIFIED:20251109T160706Z
UID:2084-1778227200-1778425200@curiavitkov.cz
SUMMARY:Květnová brigáda
DESCRIPTION:I třetí květnový víkend panuje na našem dvorci čilý pracovní ruch.\nJaro je v plném proudu a nás čeká další víkendová brigáda plná zábavy a zajímavých pracovních aktivit. Přijeďte se na nás podívat a pokud budete chtít i přiložit ruku k dílu. Odměnou vám bude náš nehynoucí vděk a skvělý pocit z dobře stráveného víkendu. \nBrigáda probíhá v pátek\, v sobotu a v neděli\, přijet a ubytovat se je možné už od čtvrtka. Těšíme se na vás!
URL:https://curiavitkov.cz/event/brigada-2/
LOCATION:Archeoskanzen Curia Vitkov\,\, Horní Vítkov\, Chrastava\, Liberecký kraj\, 463 31\, Česká republika
ORGANIZER;CN="Spolek Curia Vitkov":MAILTO:tomic@curiavitkov.cz
END:VEVENT
BEGIN:VEVENT
DTSTART;TZID=Europe/Prague:20260523T100000
DTEND;TZID=Europe/Prague:20260523T170000
DTSTAMP:20260423T001615
CREATED:20221119T163348Z
LAST-MODIFIED:20251109T160927Z
UID:2086-1779530400-1779555600@curiavitkov.cz
SUMMARY:Antický festival Gladius
DESCRIPTION:Spolky Curia Vitkov a Legio X. GPF vás zvou na tradiční antický festival!\nSpolky Curia Vitkov a Legio X. GPF vás ve spolupráci s mnoha dalšími sdruženími a spolky oživené historie zvou na tradiční antický festival na dvorci Curia Vitkov u Chrastavy na Liberecku. V sobotu 23. května 2026 se zde čas vrátí do doby nadvlády římského impéria. \nCelodenní program (10–17 hod.) vás přenese do legionářského tábora\, školy gladiátorů či ležení barbarských Keltů a Germánů. Každou hodinu se koná krátké vystoupení. \nNaučíme vás mlít obilí\, házet oštěpem nebo třeba střílet z obléhacích strojů. Uvidíte válečníky a gladiátory\, oblečení a výzbroj římských legionářů i jejich nepřátel\, dražbu otroků\, dobovou kuchyni\, koně a mnoho dalšího. Na závěr se můžete těšit na společné představení. \nSoučástí programu je možnost prohlédnout si areál dvorce. Budete-li unaveni bojem a počasím\, můžete se občerstvit v naší kryté taverně. \n  \n\nPartneři akce\n       
URL:https://curiavitkov.cz/event/anticky-festival-gladius/
LOCATION:Archeoskanzen Curia Vitkov\,\, Horní Vítkov\, Chrastava\, Liberecký kraj\, 463 31\, Česká republika
ORGANIZER;CN="Spolek Curia Vitkov":MAILTO:tomic@curiavitkov.cz
END:VEVENT
BEGIN:VEVENT
DTSTART;TZID=Europe/Prague:20260620T120000
DTEND;TZID=Europe/Prague:20260620T170000
DTSTAMP:20260423T001615
CREATED:20221119T165115Z
LAST-MODIFIED:20251109T161028Z
UID:2089-1781956800-1781974800@curiavitkov.cz
SUMMARY:Řemeslnický den
DESCRIPTION:Přijďte zažít všední den na velmožském sídle z přelomu 12. a 13. století!\nCo vás čeká? Tesařství\, kovářství\, šperkařství\, textilní techniky\, dobová kuchyně a stavba nové chlebové pece! \nPotkat můžete pána dvorce\, jeho paní\, kněze nebo sloužící\, stráže i vojáky. \nBěhem prohlídek dvorce a přilehlé vesnice se dozvíte nejen řadu zajímavostí\, ale můžete přiložit ruku k dílu a řemesla si sami vyzkoušet! \nAkce se koná za každého počasí\, vstupné je dobrovolné. \n \n  \n  \nPartneři akce
URL:https://curiavitkov.cz/event/remeslnicky-den/
LOCATION:Archeoskanzen Curia Vitkov\,\, Horní Vítkov\, Chrastava\, Liberecký kraj\, 463 31\, Česká republika
ORGANIZER;CN="Spolek Curia Vitkov":MAILTO:tomic@curiavitkov.cz
END:VEVENT
BEGIN:VEVENT
DTSTART;TZID=Europe/Prague:20260701T080000
DTEND;TZID=Europe/Prague:20260712T170000
DTSTAMP:20260423T001615
CREATED:20221119T165321Z
LAST-MODIFIED:20251109T161525Z
UID:2091-1782892800-1783875600@curiavitkov.cz
SUMMARY:Letní tábor & workshopy
DESCRIPTION:Co je letní tábor na Curii Vitkov?\nPříležitost postavit další část dvorce\, vyzkoušet si pozapomenutá řemesla a vůbec si to užít: vytesat trám\, postavit krov\, vyskládat zeď\, vyplést štít domu\, vymazat pec. Nebo si třeba ušít vlastní tuniku\, uplést tkanici\, vyčesat len. Leccos se přiučit\, dozvědět se něco k historii\, tipy a rady k práci s přírodními materiály. \nKdy můžu přijet?\nV průběhu tábora kdykoliv. Konkrétní náplň se většinou do poslední chvíle mění\, ale vždycky je co dělat. Jak dlouho se zdržíte\, je jenom na vás. \nKolik peněz tábor stojí?\nNic. Přivezte si dobrou náladu\, stan\, spacák\, jídlo a pokud na nich trváte\, tak i vlastní nástroje. Na místě je možnost zaparkovat auto\, elektřina\, pitná voda a prostor pro vaření. Děti jakéhokoli věku jsou vítány\, obvykle utvoří několik skupinek a není o nich vědět. \nNa co si dát pozor?\nNeberte si moc potravin\, které musí zůstat chlazené a mražené. Doporučujeme opalovací krém\, ochranu proti slunci a vůbec oblečení pro pohyb na čerstvém povětří.
URL:https://curiavitkov.cz/event/letni-tabor/
LOCATION:Archeoskanzen Curia Vitkov\,\, Horní Vítkov\, Chrastava\, Liberecký kraj\, 463 31\, Česká republika
ORGANIZER;CN="Spolek Curia Vitkov":MAILTO:tomic@curiavitkov.cz
END:VEVENT
BEGIN:VEVENT
DTSTART;TZID=Europe/Prague:20260718T100000
DTEND;TZID=Europe/Prague:20260719T160000
DTSTAMP:20260423T001615
CREATED:20221119T165448Z
LAST-MODIFIED:20251109T161151Z
UID:2093-1784368800-1784476800@curiavitkov.cz
SUMMARY:28. ročník Dobývání
DESCRIPTION:Zveme vás na tradiční vyvrcholení sezóny na našem dvorci!\nČekají vás komentované prohlídky dvorce s ukázkami starých řemesel\, tržiště\, malebné vojenské ležení\, vzrušující lučištnický turnaj či zábavný dětský program nazvaný „Cesta válečníka“ s vyvrcholením v podobě napínavé dětské bitvy. A samozřejmě budete moci po oba dny zhlédnout mnohé ukázky bojového umění našich předků – třeba při dechberoucím dobývání pevnosti\, používání obléhací techniky nebo v drsných turnajích. \nSobota: \n12:00 – řemesla\, dobový tábor\, oživení dvorce\n13:00 – lučištnický turnaj\n14:00 – turnaj těžkooděnců a lehkooděnců\n15:00 – dětská bitva\n16:00 – bitva \nNeděle: \n10:00 – lučištnický turnaj\n11:00 – turnaj těžkooděnců a lehkooděnců\n13:00 – dětská bitva\n13:30 – bitva \nPo bitvách následuje tradiční slosování vstupenek o zajímavé ceny s raně středověkou tematikou.  \n  \n  \n\nPartneři akce\n        \n\nPro účinkující\nPozvánka\, pravidla & on-line přihlašování:\nbude doplněno \n 
URL:https://curiavitkov.cz/event/dobyvani/
LOCATION:Archeoskanzen Curia Vitkov\,\, Horní Vítkov\, Chrastava\, Liberecký kraj\, 463 31\, Česká republika
ORGANIZER;CN="Spolek Curia Vitkov":MAILTO:tomic@curiavitkov.cz
END:VEVENT
BEGIN:VEVENT
DTSTART;TZID=Europe/Prague:20260919T080000
DTEND;TZID=Europe/Prague:20260920T150000
DTSTAMP:20260423T001615
CREATED:20230707T063754Z
LAST-MODIFIED:20251109T161248Z
UID:3445-1789804800-1789916400@curiavitkov.cz
SUMMARY:Zářijová brigáda
DESCRIPTION:Přijďte si užít babí léto na Curii Vitkov!\nPodzim je u nás nejkrásnější období a zářijová brigáda je skvělou příležitostí se s námi potkat. \nBrigáda probíhá v sobotu a v neděli\, přijet a ubytovat se je možné už od pátku. Těšíme se na vás!
URL:https://curiavitkov.cz/event/zarijova-brigada/
LOCATION:Archeoskanzen Curia Vitkov\,\, Horní Vítkov\, Chrastava\, Liberecký kraj\, 463 31\, Česká republika
ORGANIZER;CN="Spolek Curia Vitkov":MAILTO:tomic@curiavitkov.cz
END:VEVENT
BEGIN:VEVENT
DTSTART;TZID=Europe/Prague:20261017T080000
DTEND;TZID=Europe/Prague:20261018T150000
DTSTAMP:20260423T001615
CREATED:20230707T062105Z
LAST-MODIFIED:20251109T161313Z
UID:3439-1792224000-1792335600@curiavitkov.cz
SUMMARY:Říjnová brigáda
DESCRIPTION:Poslední víkendová brigáda letošního roku!\nO tomto víkendu budeme na dvorci letos pracovat naposledy. Zbývá dodělat pár drobností a připravit Vítkův dvůr na zimu. Přijeďte se na nás naposledy podívat a pokud budete chtít i přiložit ruku k dílu. \nBrigáda probíhá v sobotu a v neděli\, přijet a ubytovat se je možné už od pátku. Těšíme se na vás!
URL:https://curiavitkov.cz/event/rijnova-brigada/
LOCATION:Archeoskanzen Curia Vitkov\,\, Horní Vítkov\, Chrastava\, Liberecký kraj\, 463 31\, Česká republika
ORGANIZER;CN="Spolek Curia Vitkov":MAILTO:tomic@curiavitkov.cz
END:VEVENT
BEGIN:VEVENT
DTSTART;TZID=Europe/Prague:20261107T100000
DTEND;TZID=Europe/Prague:20261107T150000
DTSTAMP:20260423T001615
CREATED:20230707T070010Z
LAST-MODIFIED:20251109T161418Z
UID:3449-1794045600-1794063600@curiavitkov.cz
SUMMARY:Svatý Martin
DESCRIPTION:Svátek svatého Martina ve středověku vymezoval závěr zemědělského roku a počátek zimy. I pro nás je proto svatý Martin důvodem k oslavě – časem hodování\, ale také bilancování uplynulého roku a plánování toho nového. Akce není určena primárně pro veřejnost\, budete-li však mít cestu okolo\, máme otevřeno. \n 
URL:https://curiavitkov.cz/event/svaty-martin/
LOCATION:Archeoskanzen Curia Vitkov\,\, Horní Vítkov\, Chrastava\, Liberecký kraj\, 463 31\, Česká republika
ORGANIZER;CN="Spolek Curia Vitkov":MAILTO:tomic@curiavitkov.cz
END:VEVENT
END:VCALENDAR