BEGIN:VCALENDAR
VERSION:2.0
PRODID:-//Curia Vitkov - ECPv6.15.20//NONSGML v1.0//EN
CALSCALE:GREGORIAN
METHOD:PUBLISH
X-WR-CALNAME:Curia Vitkov
X-ORIGINAL-URL:https://curiavitkov.cz
X-WR-CALDESC:Akce na Curia Vitkov
REFRESH-INTERVAL;VALUE=DURATION:PT1H
X-Robots-Tag:noindex
X-PUBLISHED-TTL:PT1H
BEGIN:VTIMEZONE
TZID:Europe/Prague
BEGIN:DAYLIGHT
TZOFFSETFROM:+0100
TZOFFSETTO:+0200
TZNAME:CEST
DTSTART:20240331T010000
END:DAYLIGHT
BEGIN:STANDARD
TZOFFSETFROM:+0200
TZOFFSETTO:+0100
TZNAME:CET
DTSTART:20241027T010000
END:STANDARD
BEGIN:DAYLIGHT
TZOFFSETFROM:+0100
TZOFFSETTO:+0200
TZNAME:CEST
DTSTART:20250330T010000
END:DAYLIGHT
BEGIN:STANDARD
TZOFFSETFROM:+0200
TZOFFSETTO:+0100
TZNAME:CET
DTSTART:20251026T010000
END:STANDARD
BEGIN:DAYLIGHT
TZOFFSETFROM:+0100
TZOFFSETTO:+0200
TZNAME:CEST
DTSTART:20260329T010000
END:DAYLIGHT
BEGIN:STANDARD
TZOFFSETFROM:+0200
TZOFFSETTO:+0100
TZNAME:CET
DTSTART:20261025T010000
END:STANDARD
END:VTIMEZONE
BEGIN:VEVENT
DTSTART;TZID=Europe/Prague:20250614T180000
DTEND;TZID=Europe/Prague:20250614T193000
DTSTAMP:20260423T001630
CREATED:20250403T190557Z
LAST-MODIFIED:20250403T191048Z
UID:4085-1749924000-1749929400@curiavitkov.cz
SUMMARY:Středověký meč jako archeologický\, kulturněhistorický a technologický fenomén
DESCRIPTION:Srdečně zveme na přednášku Mgr. Petra Žákovského\, Ph.D. a Mgr. Patricka Bárty „Středověký meč jako archeologický\, kulturněhistorický a technologický fenomén“\, který se uskuteční 14. června 2025 v archeoskanzenu Curia Vitkov. \nPřednáška se uskuteční v rámci programu Strategie AV21 Epicentra civilizace – inteligentní domácnosti\, technologie a společnost\, výzkumného tématu Domácnosti\, materialita a resilience a výzkumné aktivity Středověké nože jako technologický a kulturně historický fenomén \nAkci pořádá Archeologický ústav AV ČR Brno\, v. v. i.\, a archeoskanzen Curia Vitkov. \nPro přihlášení se na kolokvium použijte přihlašovací formulář
URL:https://curiavitkov.cz/event/stredoveky-mec-jako-archeologicky-kulturnehistoricky-a-technologicky-fenomen/
LOCATION:Archeoskanzen Curia Vitkov\,\, Horní Vítkov\, Chrastava\, Liberecký kraj\, 463 31\, Česká republika
ORGANIZER;CN="Spolek Curia Vitkov":MAILTO:tomic@curiavitkov.cz
END:VEVENT
BEGIN:VEVENT
DTSTART;TZID=Europe/Prague:20250510T110000
DTEND;TZID=Europe/Prague:20250510T160000
DTSTAMP:20260423T001630
CREATED:20250508T120637Z
LAST-MODIFIED:20250721T151658Z
UID:4167-1746874800-1746892800@curiavitkov.cz
SUMMARY:Za tesařským řemeslem do Libereckého kraje
DESCRIPTION:Zveme vás na další sobotní akci v rámci našeho programu věnovaného tradičním stavebním řemeslům! Přijďte se podívat\, jak v minulosti vznikaly domy\, a zažijte atmosféru středověké stavby v autentickém prostředí archeoskanzenu Curia Vitkov. \nCo vás čeká?\n– Ukázky tesařských technik v podání zkušených řemeslníků\n– Možnost vyzkoušet si základní dovednosti – ruční opracování dřeva\, tradiční spojování trámů aj.\n– Komentované prohlídky skanzenu zaměřené na historické stavební postupy\n– Zábavné aktivity pro děti – poznávání druhů dřeva\, nástrojů a tesařských technik \nPřijďte si užít den plný historie\, řemesla a zábavy! Tento program je ideální pro rodiny\, nadšence do historie i všechny\, kdo si chtějí vyzkoušet práci se dřevem vlastníma rukama a také nám třeba pomoci stavět. \nVstupné? Dobrovolné \nTěšíme se na vás!
URL:https://curiavitkov.cz/event/za-tesarskym-remeslem-do-libereckeho-kraje-2/
LOCATION:Archeoskanzen Curia Vitkov\,\, Horní Vítkov\, Chrastava\, Liberecký kraj\, 463 31\, Česká republika
ORGANIZER;CN="Spolek Curia Vitkov":MAILTO:tomic@curiavitkov.cz
END:VEVENT
BEGIN:VEVENT
DTSTART;TZID=Europe/Prague:20250412T110000
DTEND;TZID=Europe/Prague:20250412T160000
DTSTAMP:20260423T001630
CREATED:20250227T192037Z
LAST-MODIFIED:20250403T193116Z
UID:3950-1744455600-1744473600@curiavitkov.cz
SUMMARY:Za tesařským řemeslem do Libereckého kraje!
DESCRIPTION:Zveme vás na první sobotní akci v rámci našeho programu věnovaného tradičním stavebním řemeslům! Přijďte se podívat\, jak v minulosti vznikaly domy\, a zažijte atmosféru středověké stavby v autentickém prostředí archeoskanzenu Curia Vitkov. \nCo vás čeká?\n– Ukázky tesařských technik v podání zkušených řemeslníků\n– Možnost vyzkoušet si základní dovednosti – ruční opracování dřeva\, tradiční spojování trámů aj.\n– Komentované prohlídky skanzenu zaměřené na historické stavební postupy\n– Zábavné aktivity pro děti – poznávání druhů dřeva\, nástrojů a tesařských technik \nPřijďte si užít den plný historie\, řemesla a zábavy! Tento program je ideální pro rodiny\, nadšence do historie i všechny\, kdo si chtějí vyzkoušet práci se dřevem vlastníma rukama a také nám třeba pomoci stavět. \nVstupné? Dobrovolné \nTěšíme se na vás! \n 
URL:https://curiavitkov.cz/event/za-tesarskym-remeslem-do-libereckeho-kraje/
LOCATION:Archeoskanzen Curia Vitkov\,\, Horní Vítkov\, Chrastava\, Liberecký kraj\, 463 31\, Česká republika
ORGANIZER;CN="Spolek Curia Vitkov":MAILTO:tomic@curiavitkov.cz
END:VEVENT
BEGIN:VEVENT
DTSTART;TZID=Europe/Prague:20250405T100000
DTEND;TZID=Europe/Prague:20250405T170000
DTSTAMP:20260423T001630
CREATED:20250328T113003Z
LAST-MODIFIED:20250328T113517Z
UID:4016-1743847200-1743872400@curiavitkov.cz
SUMMARY:Gastronomie českého středověku
DESCRIPTION:Vyzkoušejte si\, jaká byla kuchařská profese a jak se vyvíjela v průběhu středověku! Provedeme vás celým procesem od rozkřesání jiskřičky ohně po finální servírování pokrmu. Uvaříme si společně na replikách a vizuálních rekonstrukcích středověkého nádobí menu o několika chodech\, na kterém si také v závěru pochutnáte. Jelikož bude workshop probíhat před Velikonoci\, připravíme pokrmy\, které se s nimi tradičně pojily\, tedy mazanec\, jehněčí\, koblihy\, pučálku a různé mazy! \nUpozornění: Curia Vitkov není pořadatelem této akce! Na workshop je potřeba se dopředu přihlásit se na webu gastronomieceskehostredoveku.cz \n 
URL:https://curiavitkov.cz/event/gastronomie-ceskeho-stredoveku/
LOCATION:Archeoskanzen Curia Vitkov\,\, Horní Vítkov\, Chrastava\, Liberecký kraj\, 463 31\, Česká republika
END:VEVENT
END:VCALENDAR